BEGIN:VCALENDAR
PRODID:-//eluceo/ical//2.0/EN
VERSION:2.0
CALSCALE:GREGORIAN
BEGIN:VEVENT
UID:cd5ef3387e2bfb196d24784a9871bd56
DTSTAMP:20260425T014533Z
SUMMARY:Damúza | Princezna a skřeti
DTSTART;TZID=Europe/Prague:20260501T150000
DTEND;TZID=Europe/Prague:20260501T153500
LOCATION:Bio Oko
END:VEVENT
END:VCALENDAR
BEGIN:VCALENDAR
PRODID:-//eluceo/ical//2.0/EN
VERSION:2.0
CALSCALE:GREGORIAN
BEGIN:VEVENT
UID:4266ae691cb444567ed7e328d6c79f65
DTSTAMP:20260425T014533Z
SUMMARY:Damúza | Princezna a skřeti
DTSTART;TZID=Europe/Prague:20260501T150000
DTEND;TZID=Europe/Prague:20260501T153500
LOCATION:Bio Oko
END:VEVENT
END:VCALENDAR
