BEGIN:VCALENDAR
PRODID:-//eluceo/ical//2.0/EN
VERSION:2.0
CALSCALE:GREGORIAN
BEGIN:VEVENT
UID:fc6f15bc53a57d99e5951b8212a8f845
DTSTAMP:20260425T011207Z
SUMMARY:Ďábel nosí Pradu 2
DTSTART;TZID=Europe/Prague:20260529T150000
DTEND;TZID=Europe/Prague:20260529T170000
LOCATION:Kino Světozor
END:VEVENT
END:VCALENDAR
BEGIN:VCALENDAR
PRODID:-//eluceo/ical//2.0/EN
VERSION:2.0
CALSCALE:GREGORIAN
BEGIN:VEVENT
UID:f631d5b65876d86818b204fad4d6df99
DTSTAMP:20260425T011207Z
SUMMARY:Ďábel nosí Pradu 2
DTSTART;TZID=Europe/Prague:20260529T150000
DTEND;TZID=Europe/Prague:20260529T170000
LOCATION:Kino Světozor
END:VEVENT
END:VCALENDAR
