BEGIN:VCALENDAR
PRODID:-//eluceo/ical//2.0/EN
VERSION:2.0
CALSCALE:GREGORIAN
BEGIN:VEVENT
UID:5510d34b9bf99c41d486f278187aa953
DTSTAMP:20260421T082828Z
SUMMARY:Slepice
DTSTART;TZID=Europe/Prague:20260512T150000
DTEND;TZID=Europe/Prague:20260512T163600
LOCATION:Kino Světozor
END:VEVENT
END:VCALENDAR
BEGIN:VCALENDAR
PRODID:-//eluceo/ical//2.0/EN
VERSION:2.0
CALSCALE:GREGORIAN
BEGIN:VEVENT
UID:3156cfa1ba583f7c32e3de757f97bc90
DTSTAMP:20260421T082828Z
SUMMARY:Slepice
DTSTART;TZID=Europe/Prague:20260512T150000
DTEND;TZID=Europe/Prague:20260512T163600
LOCATION:Kino Světozor
END:VEVENT
END:VCALENDAR
