BEGIN:VCALENDAR
PRODID:-//eluceo/ical//2.0/EN
VERSION:2.0
CALSCALE:GREGORIAN
BEGIN:VEVENT
UID:8e163ce368ffaf40b7dc496a940f3a40
DTSTAMP:20260425T011121Z
SUMMARY:Ďábel nosí Pradu 2
DTSTART;TZID=Europe/Prague:20260529T130000
DTEND;TZID=Europe/Prague:20260529T150000
LOCATION:Kino Lucerna
END:VEVENT
END:VCALENDAR
BEGIN:VCALENDAR
PRODID:-//eluceo/ical//2.0/EN
VERSION:2.0
CALSCALE:GREGORIAN
BEGIN:VEVENT
UID:86594e1cf1da57beb4e428c362e93d15
DTSTAMP:20260425T011121Z
SUMMARY:Ďábel nosí Pradu 2
DTSTART;TZID=Europe/Prague:20260529T130000
DTEND;TZID=Europe/Prague:20260529T150000
LOCATION:Kino Lucerna
END:VEVENT
END:VCALENDAR
