BEGIN:VCALENDAR
PRODID:-//eluceo/ical//2.0/EN
VERSION:2.0
CALSCALE:GREGORIAN
BEGIN:VEVENT
UID:e5e8900668cd2a008b8fecd7a0dc5aa6
DTSTAMP:20260421T165455Z
SUMMARY:Nevděčné bytosti
DTSTART;TZID=Europe/Prague:20260519T100000
DTEND;TZID=Europe/Prague:20260519T115000
LOCATION:Bio Central
END:VEVENT
END:VCALENDAR
BEGIN:VCALENDAR
PRODID:-//eluceo/ical//2.0/EN
VERSION:2.0
CALSCALE:GREGORIAN
BEGIN:VEVENT
UID:544fc5b6a290599c73e76cc26d7fd882
DTSTAMP:20260421T165455Z
SUMMARY:Nevděčné bytosti
DTSTART;TZID=Europe/Prague:20260519T100000
DTEND;TZID=Europe/Prague:20260519T115000
LOCATION:Bio Central
END:VEVENT
END:VCALENDAR
