BEGIN:VCALENDAR
PRODID:-//eluceo/ical//2.0/EN
VERSION:2.0
CALSCALE:GREGORIAN
BEGIN:VEVENT
UID:e3586e10fb940cec7d79048d4d09c081
DTSTAMP:20260420T210559Z
SUMMARY:Čarodějka lásky
DTSTART;TZID=Europe/Prague:20260429T203000
DTEND;TZID=Europe/Prague:20260429T230000
LOCATION:Bio Oko
END:VEVENT
END:VCALENDAR
BEGIN:VCALENDAR
PRODID:-//eluceo/ical//2.0/EN
VERSION:2.0
CALSCALE:GREGORIAN
BEGIN:VEVENT
UID:df6d05b9d894c1d1f53d257b963d3e7f
DTSTAMP:20260420T210559Z
SUMMARY:Čarodějka lásky
DTSTART;TZID=Europe/Prague:20260429T203000
DTEND;TZID=Europe/Prague:20260429T230000
LOCATION:Bio Oko
END:VEVENT
END:VCALENDAR
