BEGIN:VCALENDAR
PRODID:-//eluceo/ical//2.0/EN
VERSION:2.0
CALSCALE:GREGORIAN
BEGIN:VEVENT
UID:802a44f759ec8f976d6fe2cc638bd172
DTSTAMP:20260421T163932Z
SUMMARY:Rozpad
DTSTART;TZID=Europe/Prague:20260427T203000
DTEND;TZID=Europe/Prague:20260427T220000
LOCATION:Bio Oko
END:VEVENT
END:VCALENDAR
BEGIN:VCALENDAR
PRODID:-//eluceo/ical//2.0/EN
VERSION:2.0
CALSCALE:GREGORIAN
BEGIN:VEVENT
UID:1539915f0afc7039c2955629f34966f1
DTSTAMP:20260421T163932Z
SUMMARY:Rozpad
DTSTART;TZID=Europe/Prague:20260427T203000
DTEND;TZID=Europe/Prague:20260427T220000
LOCATION:Bio Oko
END:VEVENT
END:VCALENDAR
