BEGIN:VCALENDAR
PRODID:-//eluceo/ical//2.0/EN
VERSION:2.0
CALSCALE:GREGORIAN
BEGIN:VEVENT
UID:a1f3fb423f94db6add4418f38a3307d9
DTSTAMP:20260419T125910Z
SUMMARY:Slepice
DTSTART;TZID=Europe/Prague:20260427T174500
DTEND;TZID=Europe/Prague:20260427T192100
LOCATION:Univerzitní kino Scala
END:VEVENT
END:VCALENDAR
BEGIN:VCALENDAR
PRODID:-//eluceo/ical//2.0/EN
VERSION:2.0
CALSCALE:GREGORIAN
BEGIN:VEVENT
UID:e95f4c64be961370922b6990042fdd70
DTSTAMP:20260419T125910Z
SUMMARY:Slepice
DTSTART;TZID=Europe/Prague:20260427T174500
DTEND;TZID=Europe/Prague:20260427T192100
LOCATION:Univerzitní kino Scala
END:VEVENT
END:VCALENDAR
