BEGIN:VCALENDAR
PRODID:-//eluceo/ical//2.0/EN
VERSION:2.0
CALSCALE:GREGORIAN
BEGIN:VEVENT
UID:31467c28bb1d44739c0ee001c5c396e6
DTSTAMP:20260421T083621Z
SUMMARY:Slepice
DTSTART;TZID=Europe/Prague:20260421T174500
DTEND;TZID=Europe/Prague:20260421T192100
LOCATION:Univerzitní kino Scala
END:VEVENT
END:VCALENDAR
BEGIN:VCALENDAR
PRODID:-//eluceo/ical//2.0/EN
VERSION:2.0
CALSCALE:GREGORIAN
BEGIN:VEVENT
UID:80c58aec3f2afe531310b6bba86285c5
DTSTAMP:20260421T083621Z
SUMMARY:Slepice
DTSTART;TZID=Europe/Prague:20260421T174500
DTEND;TZID=Europe/Prague:20260421T192100
LOCATION:Univerzitní kino Scala
END:VEVENT
END:VCALENDAR
