BEGIN:VCALENDAR
PRODID:-//eluceo/ical//2.0/EN
VERSION:2.0
CALSCALE:GREGORIAN
BEGIN:VEVENT
UID:9b5bc8230a18acb0720fa92d8861eb2f
DTSTAMP:20260421T083211Z
SUMMARY:Slepice
DTSTART;TZID=Europe/Prague:20260418T160000
DTEND;TZID=Europe/Prague:20260418T173600
LOCATION:Kino Světozor
END:VEVENT
END:VCALENDAR
BEGIN:VCALENDAR
PRODID:-//eluceo/ical//2.0/EN
VERSION:2.0
CALSCALE:GREGORIAN
BEGIN:VEVENT
UID:ae3baacd73e9dc33cb6b6b1cce268598
DTSTAMP:20260421T083211Z
SUMMARY:Slepice
DTSTART;TZID=Europe/Prague:20260418T160000
DTEND;TZID=Europe/Prague:20260418T173600
LOCATION:Kino Světozor
END:VEVENT
END:VCALENDAR
