BEGIN:VCALENDAR
PRODID:-//eluceo/ical//2.0/EN
VERSION:2.0
CALSCALE:GREGORIAN
BEGIN:VEVENT
UID:51e6d5f200dc84108d860f0dceb9e13a
DTSTAMP:20260421T082729Z
SUMMARY:Slepice
DTSTART;TZID=Europe/Prague:20260417T180000
DTEND;TZID=Europe/Prague:20260417T193600
LOCATION:Kino Světozor
END:VEVENT
END:VCALENDAR
BEGIN:VCALENDAR
PRODID:-//eluceo/ical//2.0/EN
VERSION:2.0
CALSCALE:GREGORIAN
BEGIN:VEVENT
UID:7ec1836f750f385a02d1a74c443f5559
DTSTAMP:20260421T082729Z
SUMMARY:Slepice
DTSTART;TZID=Europe/Prague:20260417T180000
DTEND;TZID=Europe/Prague:20260417T193600
LOCATION:Kino Světozor
END:VEVENT
END:VCALENDAR
