BEGIN:VCALENDAR
PRODID:-//eluceo/ical//2.0/EN
VERSION:2.0
CALSCALE:GREGORIAN
BEGIN:VEVENT
UID:4d22199ce631431a5e5f0f6d7e3e4e4b
DTSTAMP:20260421T083926Z
SUMMARY:Slepice
DTSTART;TZID=Europe/Prague:20260421T180000
DTEND;TZID=Europe/Prague:20260421T193600
LOCATION:Kino Aero
END:VEVENT
END:VCALENDAR
BEGIN:VCALENDAR
PRODID:-//eluceo/ical//2.0/EN
VERSION:2.0
CALSCALE:GREGORIAN
BEGIN:VEVENT
UID:8dbae828780a529b2d5d72ff2edaea61
DTSTAMP:20260421T083926Z
SUMMARY:Slepice
DTSTART;TZID=Europe/Prague:20260421T180000
DTEND;TZID=Europe/Prague:20260421T193600
LOCATION:Kino Aero
END:VEVENT
END:VCALENDAR
