BEGIN:VCALENDAR
PRODID:-//eluceo/ical//2.0/EN
VERSION:2.0
CALSCALE:GREGORIAN
BEGIN:VEVENT
UID:ab55e435e0d3905435b75f6d80140195
DTSTAMP:20260421T082632Z
SUMMARY:Slepice
DTSTART;TZID=Europe/Prague:20260419T123000
DTEND;TZID=Europe/Prague:20260419T140600
LOCATION:Kino Lucerna
END:VEVENT
END:VCALENDAR
BEGIN:VCALENDAR
PRODID:-//eluceo/ical//2.0/EN
VERSION:2.0
CALSCALE:GREGORIAN
BEGIN:VEVENT
UID:ef13e3bfce5e96a068d3d4baa7cd436f
DTSTAMP:20260421T082632Z
SUMMARY:Slepice
DTSTART;TZID=Europe/Prague:20260419T123000
DTEND;TZID=Europe/Prague:20260419T140600
LOCATION:Kino Lucerna
END:VEVENT
END:VCALENDAR
