BEGIN:VCALENDAR
PRODID:-//eluceo/ical//2.0/EN
VERSION:2.0
CALSCALE:GREGORIAN
BEGIN:VEVENT
UID:72aff8f942752fdbe045d9343d0e3711
DTSTAMP:20260421T083056Z
SUMMARY:Slepice
DTSTART;TZID=Europe/Prague:20260420T203000
DTEND;TZID=Europe/Prague:20260420T220600
LOCATION:Kino Lucerna
END:VEVENT
END:VCALENDAR
BEGIN:VCALENDAR
PRODID:-//eluceo/ical//2.0/EN
VERSION:2.0
CALSCALE:GREGORIAN
BEGIN:VEVENT
UID:88155b47922c9c3040c8914e5ae67fef
DTSTAMP:20260421T083056Z
SUMMARY:Slepice
DTSTART;TZID=Europe/Prague:20260420T203000
DTEND;TZID=Europe/Prague:20260420T220600
LOCATION:Kino Lucerna
END:VEVENT
END:VCALENDAR
