BEGIN:VCALENDAR
PRODID:-//eluceo/ical//2.0/EN
VERSION:2.0
CALSCALE:GREGORIAN
BEGIN:VEVENT
UID:d950f20f7b6432cf2eb9f8c25efc2818
DTSTAMP:20260421T083500Z
SUMMARY:Slepice
DTSTART;TZID=Europe/Prague:20260421T173000
DTEND;TZID=Europe/Prague:20260421T190600
LOCATION:Kino Přítomnost
END:VEVENT
END:VCALENDAR
BEGIN:VCALENDAR
PRODID:-//eluceo/ical//2.0/EN
VERSION:2.0
CALSCALE:GREGORIAN
BEGIN:VEVENT
UID:9c94360861f6a789c702cc0a1141b528
DTSTAMP:20260421T083500Z
SUMMARY:Slepice
DTSTART;TZID=Europe/Prague:20260421T173000
DTEND;TZID=Europe/Prague:20260421T190600
LOCATION:Kino Přítomnost
END:VEVENT
END:VCALENDAR
