BEGIN:VCALENDAR
PRODID:-//eluceo/ical//2.0/EN
VERSION:2.0
CALSCALE:GREGORIAN
BEGIN:VEVENT
UID:dc4affdf6ea77c3d8e7fc1e5d62b7514
DTSTAMP:20260425T013853Z
SUMMARY:Františkovy lásky
DTSTART;TZID=Europe/Prague:20260501T120000
DTEND;TZID=Europe/Prague:20260501T190000
LOCATION:Bio Oko
END:VEVENT
END:VCALENDAR
BEGIN:VCALENDAR
PRODID:-//eluceo/ical//2.0/EN
VERSION:2.0
CALSCALE:GREGORIAN
BEGIN:VEVENT
UID:aafc228db8c40867edc327d020456568
DTSTAMP:20260425T013853Z
SUMMARY:Františkovy lásky
DTSTART;TZID=Europe/Prague:20260501T120000
DTEND;TZID=Europe/Prague:20260501T190000
LOCATION:Bio Oko
END:VEVENT
END:VCALENDAR
