BEGIN:VCALENDAR
PRODID:-//eluceo/ical//2.0/EN
VERSION:2.0
CALSCALE:GREGORIAN
BEGIN:VEVENT
UID:b9481ab27fe4099b34e691796906786a
DTSTAMP:20260425T011516Z
SUMMARY:Ďábel nosí Pradu 2
DTSTART;TZID=Europe/Prague:20260501T171500
DTEND;TZID=Europe/Prague:20260501T191500
LOCATION:Kino Přítomnost
END:VEVENT
END:VCALENDAR
BEGIN:VCALENDAR
PRODID:-//eluceo/ical//2.0/EN
VERSION:2.0
CALSCALE:GREGORIAN
BEGIN:VEVENT
UID:4ca9cbe82a438a722d283e422d43306f
DTSTAMP:20260425T011516Z
SUMMARY:Ďábel nosí Pradu 2
DTSTART;TZID=Europe/Prague:20260501T171500
DTEND;TZID=Europe/Prague:20260501T191500
LOCATION:Kino Přítomnost
END:VEVENT
END:VCALENDAR
