BEGIN:VCALENDAR
PRODID:-//eluceo/ical//2.0/EN
VERSION:2.0
CALSCALE:GREGORIAN
BEGIN:VEVENT
UID:7c6c0c266329eb6bb087a43f08f8ebce
DTSTAMP:20260421T165748Z
SUMMARY:Nevděčné bytosti
DTSTART;TZID=Europe/Prague:20260427T150000
DTEND;TZID=Europe/Prague:20260427T165000
LOCATION:Bio Oko
END:VEVENT
END:VCALENDAR
BEGIN:VCALENDAR
PRODID:-//eluceo/ical//2.0/EN
VERSION:2.0
CALSCALE:GREGORIAN
BEGIN:VEVENT
UID:2c4d91718b1ad30716cbf0387e017d22
DTSTAMP:20260421T165748Z
SUMMARY:Nevděčné bytosti
DTSTART;TZID=Europe/Prague:20260427T150000
DTEND;TZID=Europe/Prague:20260427T165000
LOCATION:Bio Oko
END:VEVENT
END:VCALENDAR
