BEGIN:VCALENDAR
PRODID:-//eluceo/ical//2.0/EN
VERSION:2.0
CALSCALE:GREGORIAN
BEGIN:VEVENT
UID:f223ab8bdde1625a55463f5b4acbb9c7
DTSTAMP:20260425T011212Z
SUMMARY:Ďábel nosí Pradu 2
DTSTART;TZID=Europe/Prague:20260430T200000
DTEND;TZID=Europe/Prague:20260430T220000
LOCATION:Bio Central
END:VEVENT
END:VCALENDAR
BEGIN:VCALENDAR
PRODID:-//eluceo/ical//2.0/EN
VERSION:2.0
CALSCALE:GREGORIAN
BEGIN:VEVENT
UID:e6ccb6367d76d3c839520f319c9884e0
DTSTAMP:20260425T011212Z
SUMMARY:Ďábel nosí Pradu 2
DTSTART;TZID=Europe/Prague:20260430T200000
DTEND;TZID=Europe/Prague:20260430T220000
LOCATION:Bio Central
END:VEVENT
END:VCALENDAR
