BEGIN:VCALENDAR
PRODID:-//eluceo/ical//2.0/EN
VERSION:2.0
CALSCALE:GREGORIAN
BEGIN:VEVENT
UID:525b4ae66ada7b1cfac2bb8a6903124b
DTSTAMP:20260421T170055Z
SUMMARY:Nevděčné bytosti
DTSTART;TZID=Europe/Prague:20260430T133000
DTEND;TZID=Europe/Prague:20260430T152000
LOCATION:Kino Aero
END:VEVENT
END:VCALENDAR
BEGIN:VCALENDAR
PRODID:-//eluceo/ical//2.0/EN
VERSION:2.0
CALSCALE:GREGORIAN
BEGIN:VEVENT
UID:75085a0146b4ac20db18b956fbe197ea
DTSTAMP:20260421T170055Z
SUMMARY:Nevděčné bytosti
DTSTART;TZID=Europe/Prague:20260430T133000
DTEND;TZID=Europe/Prague:20260430T152000
LOCATION:Kino Aero
END:VEVENT
END:VCALENDAR
